BEGIN:VCALENDAR
VERSION:2.0
PRODID:-//VŠĮ &quot;Mokymų ir konsultavimo biuras&quot; - ECPv5.16.3//NONSGML v1.0//EN
CALSCALE:GREGORIAN
METHOD:PUBLISH
X-WR-CALNAME:VŠĮ &quot;Mokymų ir konsultavimo biuras&quot;
X-ORIGINAL-URL:https://mkbiuras.lt
X-WR-CALDESC:VŠĮ &quot;Mokymų ir konsultavimo biuras&quot; renginiai
REFRESH-INTERVAL;VALUE=DURATION:PT1H
X-Robots-Tag:noindex
X-PUBLISHED-TTL:PT1H
BEGIN:VTIMEZONE
TZID:Europe/Moscow
BEGIN:STANDARD
TZOFFSETFROM:+0300
TZOFFSETTO:+0300
TZNAME:MSK
DTSTART:20260101T000000
END:STANDARD
END:VTIMEZONE
BEGIN:VEVENT
DTSTART;TZID=Europe/Moscow:20260514T000000
DTEND;TZID=Europe/Moscow:20260522T000000
DTSTAMP:20260419T182902
CREATED:20250513T210002Z
LAST-MODIFIED:20260326T125501Z
UID:12157-1778716800-1779408000@mkbiuras.lt
SUMMARY:Radiacinės saugos mokymai NEMEDICINA
DESCRIPTION:Radiacinės saugos mokymai vykdomi remiantis Privalomojo radiacinės saugos mokymo ir instruktavimo tvarkos aprašu\, kuris patvirtintas Lietuvos Respublikos sveikatos apsaugos ministro 2011 m. lapkričio 22 d. įsakymu Nr. V-1001 ir įsigaliojo 2012 m. gegužės 1 d. \nNEMEDICINA: \n1. Asmenų\, atsakingų už radiacinę saugą\, pas veiklos su jonizuojančiosios spinduliuotės šaltiniais vykdytojus\, kurie savo veikloje naudoja nemedicininės paskirties III-V pavojingumo kategorijos uždaruosius radioaktyviuosius šaltinius\, jonizuojančiosios spinduliuotės generatorius\, pradinio radiacinės saugos mokymo programa; \n2. Asmenų\, atsakingų už radiacinę saugą\, pas veiklos su jonizuojančiosios spinduliuotės šaltiniais vykdytojus\, kurie savo veikloje naudoja nemedicininės paskirties III-V pavojingumo kategorijos uždaruosius radioaktyviuosius šaltinius\, jonizuojančiosios spinduliuotės generatorius\, periodinio radiacinės saugos mokymo programa; \n3. Apšvitą patiriančių darbuotojų\, dirbančių pas veiklos su jonizuojančiosios spinduliuotės šaltiniais vykdytojus\, kurie savo veikloje naudoja nemedicininės paskirties III-IV pavojingumo kategorijos uždaruosius radioaktyviuosius šaltinius\, jonizuojančiosios spinduliuotės generatorius\, pradinio radiacinės saugos mokymo programa; \n4. Apšvitą patiriančių darbuotojų\, dirbančių pas veiklos su jonizuojančiosios spinduliuotės šaltiniais vykdytojus\, kurie savo veikloje naudoja nemedicininės paskirties III-IV pavojingumo kategorijos uždaruosius radioaktyviuosius šaltinius\, jonizuojančiosios spinduliuotės generatorius\, periodinio radiacinės saugos mokymo programa.
URL:https://mkbiuras.lt/mokymas/radiacines-saugos-mokymai-nemedicina/
CATEGORIES:University
ATTACH;FMTTYPE=image/jpeg:https://mkbiuras.lt/wp-content/uploads/2025/04/nemedicina.jpg
END:VEVENT
END:VCALENDAR