BEGIN:VCALENDAR
VERSION:2.0
PRODID:-//VŠĮ &quot;Mokymų ir konsultavimo biuras&quot; - ECPv5.16.3//NONSGML v1.0//EN
CALSCALE:GREGORIAN
METHOD:PUBLISH
X-WR-CALNAME:VŠĮ &quot;Mokymų ir konsultavimo biuras&quot;
X-ORIGINAL-URL:https://mkbiuras.lt
X-WR-CALDESC:VŠĮ &quot;Mokymų ir konsultavimo biuras&quot; renginiai
REFRESH-INTERVAL;VALUE=DURATION:PT1H
X-Robots-Tag:noindex
X-PUBLISHED-TTL:PT1H
BEGIN:VTIMEZONE
TZID:Europe/Moscow
BEGIN:STANDARD
TZOFFSETFROM:+0300
TZOFFSETTO:+0300
TZNAME:MSK
DTSTART:20260101T000000
END:STANDARD
END:VTIMEZONE
BEGIN:VEVENT
DTSTART;TZID=Europe/Moscow:20260413T000000
DTEND;TZID=Europe/Moscow:20260417T000000
DTSTAMP:20260419T201516
CREATED:20250412T210032Z
LAST-MODIFIED:20260305T115847Z
UID:12105-1776038400-1776384000@mkbiuras.lt
SUMMARY:Radiacinės saugos mokymai VETERINARIJOJE
DESCRIPTION:Gyvūnų sveikatos priežiūros įstaigų darbuotojų\, dirbančių su rentgeno diagnostikos aparatais\, radiacinės saugos pradinio ir periodinio mokymo programos (Veterinarija): \nPagal programas: \n\n\n\n\n\nAtsakingi pradiniai;\nApšvitą patiriantys darbuotojai pradiniai;\nAtsakingi periodiniai;\nApšvitą patiriantys darbuotojai periodiniai.\n\n\n\nMOKYMAI NUOTOLINIAI!
URL:https://mkbiuras.lt/mokymas/radiacines-saugos-pradiniai-ir-periodiniai-kursai-veterinarijoje/
CATEGORIES:Online,University
ATTACH;FMTTYPE=image/jpeg:https://mkbiuras.lt/wp-content/uploads/2024/09/veterinarijos.jpg
END:VEVENT
END:VCALENDAR