BEGIN:VCALENDAR
VERSION:2.0
PRODID:-//VŠĮ &quot;Mokymų ir konsultavimo biuras&quot; - ECPv5.16.3//NONSGML v1.0//EN
CALSCALE:GREGORIAN
METHOD:PUBLISH
X-ORIGINAL-URL:https://mkbiuras.lt
X-WR-CALDESC:VŠĮ &quot;Mokymų ir konsultavimo biuras&quot; renginiai
REFRESH-INTERVAL;VALUE=DURATION:PT1H
X-Robots-Tag:noindex
X-PUBLISHED-TTL:PT1H
BEGIN:VTIMEZONE
TZID:Europe/Moscow
BEGIN:STANDARD
TZOFFSETFROM:+0300
TZOFFSETTO:+0300
TZNAME:MSK
DTSTART:20260101T000000
END:STANDARD
TZID:UTC
BEGIN:STANDARD
TZOFFSETFROM:+0000
TZOFFSETTO:+0000
TZNAME:UTC
DTSTART:20260101T000000
END:STANDARD
END:VTIMEZONE
BEGIN:VEVENT
DTSTART;TZID=Europe/Moscow:20260428T000000
DTEND;TZID=Europe/Moscow:20260430T000000
DTSTAMP:20260425T175104
CREATED:20250427T210004Z
LAST-MODIFIED:20260424T120259Z
UID:11828-1777334400-1777507200@mkbiuras.lt
SUMMARY:Aukštalipių mokymai
DESCRIPTION:Kiekvieno mėnesio antrąją savaitę organizuojami mokymai\, norintiems įgyti pažymėjimus arba juos atsinaujinti (pagal įmonės nustatytą tvarką\, dažniausiai kas penkerius metus). \nPagal programas: \n\n\n\nAukštalipio darbų vadovas;\nDarbininkas\, dirbantis aukštalipio darbus.
URL:https://mkbiuras.lt/mokymas/aukstalipiu-mokymai-2/
CATEGORIES:Online,University
ATTACH;FMTTYPE=image/jpeg:https://mkbiuras.lt/wp-content/uploads/2024/06/Aukstalipiu-scaled.jpg
END:VEVENT
BEGIN:VEVENT
DTSTART;TZID=Europe/Moscow:20260504T000000
DTEND;TZID=Europe/Moscow:20260505T000000
DTSTAMP:20260425T175104
CREATED:20250504T144751Z
LAST-MODIFIED:20260424T120400Z
UID:11770-1777852800-1777939200@mkbiuras.lt
SUMMARY:Krautuvų vairuotojų mokymai
DESCRIPTION:Kiekvieno mėnesio antrąją savaitę organizuojami mokymai\, norintiems įgyti pažymėjimus arba juos atsinaujinti (pagal įmonės nustatytą tvarką\, dažniausiai kas penkerius metus). \nPagal programas: \n\n\n\nKrautuvų vairuotojo;\nAutokrautuvo vairuotojo;\nElektrinių krautuvų ir vežimėlių vairuotojo.
URL:https://mkbiuras.lt/mokymas/krautuvu-vairuotoju-mokymai/
CATEGORIES:Online,University
ATTACH;FMTTYPE=image/jpeg:https://mkbiuras.lt/wp-content/uploads/2024/06/krautuvu2.jpg
END:VEVENT
BEGIN:VEVENT
DTSTART;TZID=Europe/Moscow:20260506T000000
DTEND;TZID=Europe/Moscow:20260508T000000
DTSTAMP:20260425T175104
CREATED:20250505T210056Z
LAST-MODIFIED:20260424T120602Z
UID:11766-1778025600-1778198400@mkbiuras.lt
SUMMARY:Darbų saugos mokymai
DESCRIPTION:Kiekvieno mėnesio trečiąją savaitę organizuojami mokymai\, norintiems įgyti pažymėjimus arba juos atsinaujinti (pagal įmonės nustatytą tvarką\, dažniausiai kas penkerius metus). \nPagal programas: \n\n\n\nDarbdavio\, darbdaviui atstovaujančios asmens\, atliekančio darbuotojų saugos ir sveikatos tarnybos visų ekonominės veiklos rūšių įmonėse;\nDarbdavio\, darbdaviui atstovaujančios asmens\, atliekančio darbuotojų saugos ir sveikatos tarnybos II ir III grupių ekonominės veiklos rūšių įmonėse;\nDarbdavio\, darbdaviui atstovaujančios asmens\, atliekančio darbuotojų saugos ir sveikatos tarnybos III grupės ekonominės veiklos rūšių įmonėse;\nDarbdavio įgalioto asmens\, atliekančio darbuotojų saugos ir sveikatos tarnybos visų ekonominės veiklos rūšių įmonėse;\nDarbdavio įgalioto asmens\, atliekančio darbuotojų saugos ir sveikatos tarnybos II ir III grupių ekonominės veiklos rūšių įmonėse;\nDarbdavio įgalioto asmens\, atliekančio darbuotojų saugos ir sveikatos tarnybos III grupės ekonominės veiklos rūšių įmonėse;\nDarbuotojų saugos ir sveikatos specialisto\, dirbančio visų ekonominės veiklos rūšių įmonėse;\nDarbuotojų saugos ir sveikatos specialisto\, dirbančio II ir III grupių ekonominės veiklos rūšių įmonėse;\nDarbuotojų saugos ir sveikatos specialisto\, dirbančio III grupės ekonominės veiklos rūšių įmonėse;\nDarbdavio\, darbdaviui atstovaujančios asmens\, mokymodarbuotojų saugos ir sveikatos klausimais;\nPadalinio vadovo darbų saugos mokymo;\nĮmonių\, įstaigų ir organizacijų vadovų ir atsakingų asmenų\, kuriems pavesta kontroliuoti objekto priešgaisrinę būklę ir imtis priemonių priešgaisrinės saugos reikalavimams vykdyti\, priešgaisrinės saugos.
URL:https://mkbiuras.lt/mokymas/darbu-saugos-mokymai/
CATEGORIES:Online,University
ATTACH;FMTTYPE=image/jpeg:https://mkbiuras.lt/wp-content/uploads/2024/06/Darbu_sauga-scaled.jpg
END:VEVENT
BEGIN:VEVENT
DTSTART;TZID=Europe/Moscow:20260506T090000
DTEND;TZID=Europe/Moscow:20260508T140000
DTSTAMP:20260425T175104
CREATED:20250506T123729Z
LAST-MODIFIED:20260424T115434Z
UID:12169-1778058000-1778248800@mkbiuras.lt
SUMMARY:Radiacinės saugos mokymai MEDICINOJE
DESCRIPTION:Radiacinės saugos mokymai vykdomi remiantis Privalomojo radiacinės saugos mokymo ir instruktavimo tvarkos aprašu\, kuris patvirtintas Lietuvos Respublikos sveikatos apsaugos ministro 2011 m. lapkričio 22 d. įsakymu Nr. V-1001 ir įsigaliojo 2012 m. gegužės 1 d. \n\n\n\nAsmenų\, atsakingų už radiacinę saugą asmens sveikatos priežiūros įstaigose\, kuriose naudojami jonizuojančiosios spinduliuotės generatoriai (rentgenodiagnostikoje)\, radiacinės saugos pradinio mokymo programa.\nAsmenų\, dirbančių asmens sveikatos priežiūros įstaigose\, kuriose naudojami jonizuojančiosios spinduliuotės generatoriai (rentgenodiagnostikoje)\, radiacinės saugos pradinio mokymo programa.\nAsmenų\, atsakingų už radiacinę saugą asmens sveikatos priežiūros įstaigose\, kuriose naudojami jonizuojančiosios spinduliuotės generatoriai (rentgenodiagnostikoje)\, radiacinės saugos periodinio mokymo programa.\nAsmenų\, dirbančių asmens sveikatos priežiūros įstaigose\, kuriose naudojami jonizuojančiosios spinduliuotės generatoriai (rentgenodiagnostikoje)\, radiacinės saugos periodinio mokymo programa.\n\n\n\nMokymai vyksta nuotoliniu būdu. \nOrganizuojami radiacinės saugos mokymai MEDICINOJE pagal programas: \nRENTGENO DIAGNOSTIKA: \n\n\n\nAsmenų\, atsakingų už radiacinę saugą asmens sveikatos priežiūros įstaigose rentgeno diagnostikoje\, radiacinės saugos pradinio mokymo programa;\nAsmenų\, atsakingų už radiacinę saugą asmens sveikatos priežiūros įstaigose rentgeno diagnostikoje\, radiacinės saugos periodinio mokymo programa;\nApšvitą patiriančių darbuotojų\, dirbančių asmens sveikatos priežiūros įstaigose rentgeno diagnostikoje\, radiacinės saugos pradinio mokymo programa;\nApšvitą patiriančių darbuotojų\, dirbančių asmens sveikatos priežiūros įstaigose rentgeno diagnostikoje\, radiacinės saugos periodinio mokymo programa.
URL:https://mkbiuras.lt/mokymas/radiacines-saugos-mokymai-medicinoje-2/
CATEGORIES:University
ATTACH;FMTTYPE=image/jpeg:https://mkbiuras.lt/wp-content/uploads/2024/09/jpeg-optimizer_1-24-scaled.jpg
END:VEVENT
BEGIN:VEVENT
DTSTART;TZID=Europe/Moscow:20260514T000000
DTEND;TZID=Europe/Moscow:20260522T000000
DTSTAMP:20260425T175104
CREATED:20250513T210002Z
LAST-MODIFIED:20260326T125501Z
UID:12157-1778716800-1779408000@mkbiuras.lt
SUMMARY:Radiacinės saugos mokymai NEMEDICINA
DESCRIPTION:Radiacinės saugos mokymai vykdomi remiantis Privalomojo radiacinės saugos mokymo ir instruktavimo tvarkos aprašu\, kuris patvirtintas Lietuvos Respublikos sveikatos apsaugos ministro 2011 m. lapkričio 22 d. įsakymu Nr. V-1001 ir įsigaliojo 2012 m. gegužės 1 d. \nNEMEDICINA: \n1. Asmenų\, atsakingų už radiacinę saugą\, pas veiklos su jonizuojančiosios spinduliuotės šaltiniais vykdytojus\, kurie savo veikloje naudoja nemedicininės paskirties III-V pavojingumo kategorijos uždaruosius radioaktyviuosius šaltinius\, jonizuojančiosios spinduliuotės generatorius\, pradinio radiacinės saugos mokymo programa; \n2. Asmenų\, atsakingų už radiacinę saugą\, pas veiklos su jonizuojančiosios spinduliuotės šaltiniais vykdytojus\, kurie savo veikloje naudoja nemedicininės paskirties III-V pavojingumo kategorijos uždaruosius radioaktyviuosius šaltinius\, jonizuojančiosios spinduliuotės generatorius\, periodinio radiacinės saugos mokymo programa; \n3. Apšvitą patiriančių darbuotojų\, dirbančių pas veiklos su jonizuojančiosios spinduliuotės šaltiniais vykdytojus\, kurie savo veikloje naudoja nemedicininės paskirties III-IV pavojingumo kategorijos uždaruosius radioaktyviuosius šaltinius\, jonizuojančiosios spinduliuotės generatorius\, pradinio radiacinės saugos mokymo programa; \n4. Apšvitą patiriančių darbuotojų\, dirbančių pas veiklos su jonizuojančiosios spinduliuotės šaltiniais vykdytojus\, kurie savo veikloje naudoja nemedicininės paskirties III-IV pavojingumo kategorijos uždaruosius radioaktyviuosius šaltinius\, jonizuojančiosios spinduliuotės generatorius\, periodinio radiacinės saugos mokymo programa.
URL:https://mkbiuras.lt/mokymas/radiacines-saugos-mokymai-nemedicina/
CATEGORIES:University
ATTACH;FMTTYPE=image/jpeg:https://mkbiuras.lt/wp-content/uploads/2025/04/nemedicina.jpg
END:VEVENT
BEGIN:VEVENT
DTSTART;TZID=Europe/Moscow:20260521T000000
DTEND;TZID=Europe/Moscow:20260521T000000
DTSTAMP:20260425T175104
CREATED:20250521T084844Z
LAST-MODIFIED:20260424T121203Z
UID:11819-1779321600-1779321600@mkbiuras.lt
SUMMARY:Elektros energetikos darbuotojų atestavimas
DESCRIPTION:Kiekvieno mėnesio trečiąją savaitę organizuojami energetikos darbuotojų atestavimai\, bei kvalifikacijos kėlimo mokymai (seminarai). \nPagal programas: \n\n\n\nAsmens\, atsakingo už įmonės elektros ūkį;\nElektrotechnikos darbuotojai\, eksploatuojantys elektros įrenginius;
URL:https://mkbiuras.lt/mokymas/https-mkbiuras-lt-paslaugos-energetikos-darbuotojo/
CATEGORIES:Online,University
ATTACH;FMTTYPE=image/jpeg:https://mkbiuras.lt/wp-content/uploads/2024/06/Elektriku-scaled.jpg
END:VEVENT
BEGIN:VEVENT
DTSTART;TZID=UTC:20260601T000000
DTEND;TZID=UTC:20260601T000000
DTSTAMP:20260425T175104
CREATED:20250531T210019Z
LAST-MODIFIED:20260424T115907Z
UID:83-1780272000-1780272000@mkbiuras.lt
SUMMARY:Radiacinės saugos mokymai METALO LAUŽAS
DESCRIPTION:  \nRadiacinės saugos mokymai vykdomi remiantis Privalomojo radiacinės saugos mokymo ir instruktavimo tvarkos aprašu\, kuris patvirtintas Lietuvos Respublikos sveikatos apsaugos ministro 2011 m. lapkričio 22 d. įsakymu Nr. V-1001 ir įsigaliojo 2012 m. gegužės 1 d. \nPagal programą: \n\n\nMETALŲ LAUŽO IR ATLIEKŲ SUPIRKIMO\, METALŲ LAUŽO IR ATLIEKŲ PERDIRBIMO ĮMONIŲ DARBUOTOJŲ RADIACINĖS SAUGOS MOKYMO PROGRAMA
URL:https://mkbiuras.lt/mokymas/radiacines-saugos-mokymai-metalo-lauzas/
CATEGORIES:Online,University
ATTACH;FMTTYPE=image/jpeg:https://mkbiuras.lt/wp-content/uploads/2019/03/Fiksavimas.jpg
END:VEVENT
BEGIN:VEVENT
DTSTART;TZID=UTC:20260611T000000
DTEND;TZID=UTC:20260619T000000
DTSTAMP:20260425T175104
CREATED:20250610T210026Z
LAST-MODIFIED:20260326T125523Z
UID:655-1781136000-1781827200@mkbiuras.lt
SUMMARY:Radiacinės saugos mokymai MEDICINOJE
DESCRIPTION:Radiacinės saugos mokymai vykdomi remiantis Privalomojo radiacinės saugos mokymo ir instruktavimo tvarkos aprašu\, kuris patvirtintas Lietuvos Respublikos sveikatos apsaugos ministro 2011 m. lapkričio 22 d. įsakymu Nr. V-1001 ir įsigaliojo 2012 m. gegužės 1 d. \n\n\n\nAsmenų\, atsakingų už radiacinę saugą asmens sveikatos priežiūros įstaigose\, kuriose naudojami jonizuojančiosios spinduliuotės generatoriai (rentgenodiagnostikoje)\, radiacinės saugos pradinio mokymo programa.\nAsmenų\, dirbančių asmens sveikatos priežiūros įstaigose\, kuriose naudojami jonizuojančiosios spinduliuotės generatoriai (rentgenodiagnostikoje)\, radiacinės saugos pradinio mokymo programa.\nAsmenų\, atsakingų už radiacinę saugą asmens sveikatos priežiūros įstaigose\, kuriose naudojami jonizuojančiosios spinduliuotės generatoriai (rentgenodiagnostikoje)\, radiacinės saugos periodinio mokymo programa.\nAsmenų\, dirbančių asmens sveikatos priežiūros įstaigose\, kuriose naudojami jonizuojančiosios spinduliuotės generatoriai (rentgenodiagnostikoje)\, radiacinės saugos periodinio mokymo programa.\n\n\n\nMokymai vyksta nuotoliniu būdu. \nOrganizuojami radiacinės saugos mokymai MEDICINOJE pagal programas: \nRENTGENO DIAGNOSTIKA: \n\n\n\nAsmenų\, atsakingų už radiacinę saugą asmens sveikatos priežiūros įstaigose rentgeno diagnostikoje\, radiacinės saugos pradinio mokymo programa;\nAsmenų\, atsakingų už radiacinę saugą asmens sveikatos priežiūros įstaigose rentgeno diagnostikoje\, radiacinės saugos periodinio mokymo programa;\nApšvitą patiriančių darbuotojų\, dirbančių asmens sveikatos priežiūros įstaigose rentgeno diagnostikoje\, radiacinės saugos pradinio mokymo programa;\nApšvitą patiriančių darbuotojų\, dirbančių asmens sveikatos priežiūros įstaigose rentgeno diagnostikoje\, radiacinės saugos periodinio mokymo programa.
URL:https://mkbiuras.lt/mokymas/radiacines-saugos-mokymai-medicinoje/
CATEGORIES:University
ATTACH;FMTTYPE=image/jpeg:https://mkbiuras.lt/wp-content/uploads/2019/03/1-24-scaled.jpg
END:VEVENT
BEGIN:VEVENT
DTSTART;TZID=UTC:20260615T000000
DTEND;TZID=UTC:20260619T000000
DTSTAMP:20260425T175104
CREATED:20250614T210032Z
LAST-MODIFIED:20260424T110036Z
UID:9607-1781481600-1781827200@mkbiuras.lt
SUMMARY:Radiacinės saugos mokymai ODONTOLOGIJOJE
DESCRIPTION:Radiacinės saugos mokymai vykdomi remiantis Privalomojo radiacinės saugos mokymo ir instruktavimo tvarkos aprašu\, kuris patvirtintas Lietuvos Respublikos sveikatos apsaugos ministro 2011 m. lapkričio 22 d. įsakymu Nr. V-1001 ir įsigaliojo 2012 m. gegužės 1 d. \nPagal programas: \n\n\n\nAsmenų\, atsakingų už radiacinę saugą asmens sveikatos priežiūros įstaigose\, kuriose naudojami dantų rentgenodiagnostikos aparatai\, radiacinės saugos pradinio mokymo programa.\nAsmenų\, dirbančių asmens sveikatos priežiūros įstaigose\, kuriose naudojami dantų rentgenodiagnostikos aparatai\, radiacinės saugos pradinio mokymo programa.\nAsmenų\, atsakingų už radiacinę saugą ir dirbančių asmens sveikatos priežiūros įstaigose\, kuriose naudojami dantų rentgenodiagnostikos aparatai\, radiacinės saugos periodinio mokymo programa (asmuo atsakingas už radiacinę saugą).\nAsmenų\, atsakingų už radiacinę saugą ir dirbančių asmens sveikatos priežiūros įstaigose\, kuriose naudojami dantų rentgenodiagnostikos aparatai\, radiacinės saugos periodinio mokymo programa (apšvitą patiriantis darbuotojas).
URL:https://mkbiuras.lt/mokymas/radiacines-saugos-mokymai-odontologams-4/
CATEGORIES:Online,University
ATTACH;FMTTYPE=image/jpeg:https://mkbiuras.lt/wp-content/uploads/2022/12/1-27.jpg
END:VEVENT
BEGIN:VEVENT
DTSTART;TZID=UTC:20260817T000000
DTEND;TZID=UTC:20260821T000000
DTSTAMP:20260425T175104
CREATED:20250817T170924Z
LAST-MODIFIED:20260424T120100Z
UID:649-1786924800-1787270400@mkbiuras.lt
SUMMARY:Radiacinės saugos mokymai ODONTOLOGAMS
DESCRIPTION:Radiacinės saugos mokymai vykdomi remiantis Privalomojo radiacinės saugos mokymo ir instruktavimo tvarkos aprašu\, kuris patvirtintas Lietuvos Respublikos sveikatos apsaugos ministro 2011 m. lapkričio 22 d. įsakymu Nr. V-1001 ir įsigaliojo 2012 m. gegužės 1 d. \nPagal programas: \n\n\nAsmens sveikatos priežiūros darbuotojų\, dirbančių su dantų rentgenodiagnostikos aparatais\, radiacinės saugos privalomojo pradinio mokymo programa. Programos trukmė 14 valandų. \n\n\nAsmens sveikatos priežiūros darbuotojų\, dirbančių su dantų rentgenodiagnostikos aparatais\, radiacinės saugos privalomojo periodinio mokymo programa. Programos trukmė 8 valandos. \n\n\nAsmenų atsakingų už radiacinę saugą odontologijos kabinetuose\, radiacinės saugos privalomojo pradinio mokymo programa. Programos trukmė 20 valandų. \n\n\nAsmenų atsakingų už radiacinę saugą odontologijos kabinetuose\, radiacinės saugos privalomojo periodinio mokymo programa. Programos trukmė 8 valandos. \n\n\n \n \nODONTOLOGIJA: \n1. Asmenų\, atsakingų už radiacinę saugą asmens sveikatos priežiūros įstaigose\, kuriose naudojami dantų rentgeno diagnostikos aparatai\, radiacinės saugos pradinio mokymo programa; \n2. Asmenų\, atsakingų už radiacinę saugą asmens sveikatos priežiūros įstaigose\, kuriose naudojami dantų rentgeno diagnostikos aparatai\, radiacinės saugos periodinio mokymo programa; \n3. Apšvitą patiriančių darbuotojų\, dirbančių asmens sveikatos priežiūros įstaigose\, kuriose naudojami dantų rentgeno diagnostikos aparatai\, radiacinės saugos pradinio mokymo programa; \n4. Apšvitą patiriančių darbuotojų\, dirbančių asmens sveikatos priežiūros įstaigose\, kuriose naudojami dantų rentgeno diagnostikos aparatai\, radiacinės saugos periodinio mokymo programa.
URL:https://mkbiuras.lt/mokymas/radiacines-saugos-mokymai-odontologams-3/
CATEGORIES:University
ATTACH;FMTTYPE=image/jpeg:https://mkbiuras.lt/wp-content/uploads/2019/03/mokymas3.jpeg
ORGANIZER;CN="Nikolajus%20Medvedevas":MAILTO:info@yourmail.com
END:VEVENT
END:VCALENDAR